Dijkenkaart_van_Nederland (Map Service)
View In:
ArcGIS JavaScript
ArcGIS.com
WMTS
Current Version: 10.81
Service Description: Beschrijving van het boek Dijken van Nederland:
----------------
Coming in November 2014, featuring the first comprehensive mapping of the Dutch dike system: Dutch Dikes!
The Netherlands has many thousands of dikes. Dikes are the pivotal elements in our landscape, and have great cultural-historical value. We live in dike houses on the Waalbandijk, cycle along the meandering Omringdijk in West Friesland, or visit the monument on the Afsluitdijk. Nevertheless, quite a few of the dikes fail to meet current safety standards. In order to guarantee our safety, knowledge about dikes is therefore necessary. It is time for an overview as well as a look towards the future, in a standard work: Dutch Dikes.
Despite their importance to our history, economy, culture, and nature, our dikes have never been properly mapped out. This is remarkable, because without dikes, the Netherlands would never have existed; they are our most important invention. In this book, based on the first Dike Map of the Netherlands, the Dutch dikes will for the first time be described, interpreted, and portrayed in their entirety: from primary embankment to relict, from sea wall to defence line dike, and from dreamer dike to watchman dike. The list of the top 100 dikes shows the most remarkable dikes of the Netherlands.
----------------
Deze kaart wordt gebruikt in het boek en tevens in de interactieve online StoryMap van de Dijken in Nederland.
Map Name: Layers
Legend
All Layers and Tables
Layers:
Tables:
Description: Beschrijving van het boek Dijken van Nederland:
----------------
Coming in November 2014, featuring the first comprehensive mapping of the Dutch dike system: Dutch Dikes!
The Netherlands has many thousands of dikes. Dikes are the pivotal elements in our landscape, and have great cultural-historical value. We live in dike houses on the Waalbandijk, cycle along the meandering Omringdijk in West Friesland, or visit the monument on the Afsluitdijk. Nevertheless, quite a few of the dikes fail to meet current safety standards. In order to guarantee our safety, knowledge about dikes is therefore necessary. It is time for an overview as well as a look towards the future, in a standard work: Dutch Dikes.
Despite their importance to our history, economy, culture, and nature, our dikes have never been properly mapped out. This is remarkable, because without dikes, the Netherlands would never have existed; they are our most important invention. In this book, based on the first Dike Map of the Netherlands, the Dutch dikes will for the first time be described, interpreted, and portrayed in their entirety: from primary embankment to relict, from sea wall to defence line dike, and from dreamer dike to watchman dike. The list of the top 100 dikes shows the most remarkable dikes of the Netherlands.
----------------
Deze kaart wordt gebruikt in het boek en tevens in de interactieve online StoryMap van de Dijken in Nederland.
Copyright Text: LOLA Landscape Architects, Rijkswaterstaat, Voormalige ministeries VROM & LNV 2007, TU Delft, Esri Nederland
Spatial Reference: 28992
Single Fused Map Cache: true
Capabilities: Map,TilesOnly
Tile Info:
- Height: 256
- Width: 256
- DPI: 96
- Levels of Detail: (# Levels: 13)
- Level ID: 0 [Start Tile, End Tile]
Resolution: 3251.206502413005
Scale: 1.2288E7
- Level ID: 1 [Start Tile, End Tile]
Resolution: 1625.6032512065026
Scale: 6144000.0
- Level ID: 2 [Start Tile, End Tile]
Resolution: 812.8016256032513
Scale: 3072000.0
- Level ID: 3 [Start Tile, End Tile]
Resolution: 406.40081280162565
Scale: 1536000.0
- Level ID: 4 [Start Tile, End Tile]
Resolution: 203.20040640081282
Scale: 768000.0
- Level ID: 5 [Start Tile, End Tile]
Resolution: 101.60020320040641
Scale: 384000.0
- Level ID: 6 [Start Tile, End Tile]
Resolution: 50.800101600203206
Scale: 192000.0
- Level ID: 7 [Start Tile, End Tile]
Resolution: 25.400050800101603
Scale: 96000.0
- Level ID: 8 [Start Tile, End Tile]
Resolution: 12.700025400050801
Scale: 48000.0
- Level ID: 9 [Start Tile, End Tile]
Resolution: 6.350012700025401
Scale: 24000.0
- Level ID: 10 [Start Tile, End Tile]
Resolution: 3.1750063500127004
Scale: 12000.0
- Level ID: 11 [Start Tile, End Tile]
Resolution: 1.5875031750063502
Scale: 6000.0
- Level ID: 12 [Start Tile, End Tile]
Resolution: 0.7937515875031751
Scale: 3000.0
- Format: PNG32
- Compression Quality: 0
- Origin:
X: -285401.92
Y: 903401.92
- Spatial Reference:
28992
Initial Extent: XMin: 13873.158500000834
YMin: 309624.3449999988
XMax: 277707.37099999934
YMax: 612467.313000001
Spatial Reference:
28992
Full Extent: XMin: 13873.158500000834
YMin: 309624.3449999988
XMax: 277707.37099999934
YMax: 612467.313000001
Spatial Reference:
28992
Min Scale: 1.2288E7
Max Scale: 3000.0
Min LOD: 0
Max LOD: 12
Units: esriMeters
Supported Image Format Types: PNG32
Export Tiles Allowed: false
Max Export Tiles Count: 100000
Document Info: - Title: Dijkenkaart_van_Nederland
- Author: Esri_NL_StoryMaps
- Comments:
- Subject: Dijkenkaart
- Category:
- Keywords: Dijken, Dikes, Nederland, Netherlands, NL, NLD, Dijkenkaart, Dijkringen, Primaire, Waterkerende, Dammen, Stormvloedkeringen, Duinen, Polderkaart, Story Map, Storymap, Map Journal